BEGIN:VCALENDAR
VERSION:2.0
PRODID:-//Nehemiah Leaders Programs - ECPv6.15.20//NONSGML v1.0//EN
CALSCALE:GREGORIAN
METHOD:PUBLISH
X-ORIGINAL-URL:https://nehemiahleaders.com
X-WR-CALDESC:Events for Nehemiah Leaders Programs
REFRESH-INTERVAL;VALUE=DURATION:PT1H
X-Robots-Tag:noindex
X-PUBLISHED-TTL:PT1H
BEGIN:VTIMEZONE
TZID:America/Los_Angeles
BEGIN:DAYLIGHT
TZOFFSETFROM:-0800
TZOFFSETTO:-0700
TZNAME:PDT
DTSTART:20250309T100000
END:DAYLIGHT
BEGIN:STANDARD
TZOFFSETFROM:-0700
TZOFFSETTO:-0800
TZNAME:PST
DTSTART:20251102T090000
END:STANDARD
BEGIN:DAYLIGHT
TZOFFSETFROM:-0800
TZOFFSETTO:-0700
TZNAME:PDT
DTSTART:20260308T100000
END:DAYLIGHT
BEGIN:STANDARD
TZOFFSETFROM:-0700
TZOFFSETTO:-0800
TZNAME:PST
DTSTART:20261101T090000
END:STANDARD
BEGIN:DAYLIGHT
TZOFFSETFROM:-0800
TZOFFSETTO:-0700
TZNAME:PDT
DTSTART:20270314T100000
END:DAYLIGHT
BEGIN:STANDARD
TZOFFSETFROM:-0700
TZOFFSETTO:-0800
TZNAME:PST
DTSTART:20271107T090000
END:STANDARD
END:VTIMEZONE
BEGIN:VEVENT
DTSTART;TZID=America/Los_Angeles:20260427T120000
DTEND;TZID=America/Los_Angeles:20260427T130000
DTSTAMP:20260422T014509
CREATED:20260409T224728Z
LAST-MODIFIED:20260409T224908Z
UID:2160-1777291200-1777294800@nehemiahleaders.com
SUMMARY:Unlock Your Potential with NELP: A Panel Presentation
DESCRIPTION:Unlock Your Potential: Why You Belong at the NELP Info Session \nAre you ready to move from managing tasks to mobilizing people? The Nehemiah Emerging Leaders Program (NELP) isn’t just another professional development seminar—it’s a masterclass in transformative leadership designed for those ready to change the face of our region. \nIf you’ve been looking for a sign to level up your career and community impact\, this info session is your starting point. \nWhy Attend? \nDeciding where to invest your time is a big deal. Here is exactly what you gain by joining us to learn about the program: \n\nThe “Inside Track” Advantage: Get a clear\, transparent breakdown of the curriculum\, the commitment\, and the unique “Nehemiah Way” of leadership that you won’t find in a brochure.\nA Network That Matters: Meet alumni and program architects. NELP connects you with a powerhouse ecosystem of diverse professionals who are actively shaping the future of business and civic life.\nClarity on Your “Why”: Leadership can be lonely. Discover how NELP helps you find your authentic voice and provides the tools to lead with both emotional intelligence and strategic grit.\nDirect Q&A: Skip the guesswork. Get your specific questions answered regarding the application process\, the fellowship experience\, and the ROI for your specific career path.\n\nDon’t leave your growth to chance. Join us to see if you’re ready to take your seat at the table—or build a new one. \nRegister here: https://us02web.zoom.us/meeting/register/gcNgJWJGRSW2ED_EqkRGCw
URL:https://nehemiahleaders.com/event/unlock-your-potential-with-nelp-a-panel-presentation/
LOCATION:Zoom
ORGANIZER;CN="Nehemiah Leaders Programs":MAILTO:info@nelpleaders.org
END:VEVENT
END:VCALENDAR